BEGIN:VCALENDAR
PRODID:-//IONAS//TVM//DE
VERSION:2.0
CALSCALE:GREGORIAN
BEGIN:VTIMEZONE
TZID:Europe/Berlin
LAST-MODIFIED:20201010T011803Z
TZURL:http://tzurl.org/zoneinfo/Europe/Berlin
X-LIC-LOCATION:Europe/Berlin
X-PROLEPTIC-TZNAME:LMT
BEGIN:STANDARD
TZNAME:CET
TZOFFSETFROM:+005328
TZOFFSETTO:+0100
DTSTART:18930401T000000
END:STANDARD
BEGIN:DAYLIGHT
TZNAME:CEST
TZOFFSETFROM:+0100
TZOFFSETTO:+0200
DTSTART:19160430T230000
RDATE:19400401T020000
RDATE:19430329T020000
RDATE:19460414T020000
RDATE:19470406T030000
RDATE:19480418T020000
RDATE:19490410T020000
RDATE:19800406T020000
END:DAYLIGHT
BEGIN:STANDARD
TZNAME:CET
TZOFFSETFROM:+0200
TZOFFSETTO:+0100
DTSTART:19161001T010000
RDATE:19421102T030000
RDATE:19431004T030000
RDATE:19441002T030000
RDATE:19451118T030000
RDATE:19461007T030000
END:STANDARD
BEGIN:DAYLIGHT
TZNAME:CEST
TZOFFSETFROM:+0100
TZOFFSETTO:+0200
DTSTART:19170416T020000
RRULE:FREQ=YEARLY;UNTIL=19180415T010000Z;BYMONTH=4;BYDAY=3MO
END:DAYLIGHT
BEGIN:STANDARD
TZNAME:CET
TZOFFSETFROM:+0200
TZOFFSETTO:+0100
DTSTART:19170917T030000
RRULE:FREQ=YEARLY;UNTIL=19180916T010000Z;BYMONTH=9;BYDAY=3MO
END:STANDARD
BEGIN:DAYLIGHT
TZNAME:CEST
TZOFFSETFROM:+0100
TZOFFSETTO:+0200
DTSTART:19440403T020000
RRULE:FREQ=YEARLY;UNTIL=19450402T010000Z;BYMONTH=4;BYDAY=1MO
END:DAYLIGHT
BEGIN:DAYLIGHT
TZNAME:CEMT
TZOFFSETFROM:+0200
TZOFFSETTO:+0300
DTSTART:19450524T020000
RDATE:19470511T030000
END:DAYLIGHT
BEGIN:DAYLIGHT
TZNAME:CEST
TZOFFSETFROM:+0300
TZOFFSETTO:+0200
DTSTART:19450924T030000
RDATE:19470629T030000
END:DAYLIGHT
BEGIN:STANDARD
TZNAME:CET
TZOFFSETFROM:+0100
TZOFFSETTO:+0100
DTSTART:19460101T000000
RDATE:19800101T000000
END:STANDARD
BEGIN:STANDARD
TZNAME:CET
TZOFFSETFROM:+0200
TZOFFSETTO:+0100
DTSTART:19471005T030000
RRULE:FREQ=YEARLY;UNTIL=19491002T010000Z;BYMONTH=10;BYDAY=1SU
END:STANDARD
BEGIN:STANDARD
TZNAME:CET
TZOFFSETFROM:+0200
TZOFFSETTO:+0100
DTSTART:19800928T030000
RRULE:FREQ=YEARLY;UNTIL=19950924T010000Z;BYMONTH=9;BYDAY=-1SU
END:STANDARD
BEGIN:DAYLIGHT
TZNAME:CEST
TZOFFSETFROM:+0100
TZOFFSETTO:+0200
DTSTART:19810329T020000
RRULE:FREQ=YEARLY;BYMONTH=3;BYDAY=-1SU
END:DAYLIGHT
BEGIN:STANDARD
TZNAME:CET
TZOFFSETFROM:+0200
TZOFFSETTO:+0100
DTSTART:19961027T030000
RRULE:FREQ=YEARLY;BYMONTH=10;BYDAY=-1SU
END:STANDARD
END:VTIMEZONE
BEGIN:VEVENT
DTSTAMP:20260422T165923Z
DTSTART;TZID=Europe/Berlin:20260606T100000
DTEND;TZID=Europe/Berlin:20260606T163000
SUMMARY:Tag der Johanniter in Siegburg
DESCRIPTION:Am 6. Juni 2026 wird Siegburg zum Treffpunkt für Johanniterin
 nen und Johanniter aus ganz Nordrhein-Westfalen. Beim „Tag der Johannite
 r“ stehen Engagement\, Teamgeist und Erste Hilfe im Mittelpunkt.\nHerzst
 ück der Veranstaltung ist der Landeswettkampf der Ersten Hilfe auf dem S
 iegburger Marktplatz und im Rhein Sieg Forum. In verschiedenen Disziplin
 en und realitätsnahen Szenarien stellen Teams ihr Können unter Beweis. O
 b Nachwuchs oder erfahrene Helferinnen und Helfer – in insgesamt fünf Le
 istungsklassen treten die Teilnehmenden gegeneinander an\, um die besten
  Ersthelferinnen und Ersthelfer NRWs zu ermitteln.\nDoch der Tag der Joh
 anniter ist weit mehr als ein Wettbewerb: Er ist ein lebendiges Ehrenamt
 sfest\, das Raum für Austausch\, Begegnung und gemeinsames Erleben schaf
 ft. Besucherinnen und Besucher können sich über spannende Einblicke in d
 ie Arbeit der Johanniter und über eine besondere Wettkampf-Atmosphäre fr
 euen.\nDer Tag der Johanniter findet alle zwei Jahre an wechselnden Orte
 n in Nordrhein-Westfalen statt. Nach Stationen wie Bad Oeynhausen\, Esse
 n\, Bochum und Aachen ist 2026 erstmals Siegburg Gastgeber dieser besond
 eren Veranstaltung.
LOCATION:Marktplatz
X-LOCATION-NAME:Marktplatz
X-STREET-ADDRESS:Markt
X-POSTAL-CODE:53721
X-LOCALITY:Siegburg
X-ORGANIZER-NAME:Johanniter-Unfall-Hilfe e.V. - Regionalverband Bonn/Rhei
 n-Sieg/Euskirchen
URL:https://events.siegburg.de/Veranstaltungen/Tag-der-Johanniter-in-Sieg
 burg.html?
CATEGORIES:Jahrmärkte & Feste,Kinder & Familie,Sonstiges,Lokales Engageme
 nt
UID:3365
X-PRICE:Frei
END:VEVENT
END:VCALENDAR
