BEGIN:VCALENDAR
PRODID:-//IONAS//TVM//DE
VERSION:2.0
CALSCALE:GREGORIAN
BEGIN:VTIMEZONE
TZID:Europe/Berlin
LAST-MODIFIED:20201010T011803Z
TZURL:http://tzurl.org/zoneinfo/Europe/Berlin
X-LIC-LOCATION:Europe/Berlin
X-PROLEPTIC-TZNAME:LMT
BEGIN:STANDARD
TZNAME:CET
TZOFFSETFROM:+005328
TZOFFSETTO:+0100
DTSTART:18930401T000000
END:STANDARD
BEGIN:DAYLIGHT
TZNAME:CEST
TZOFFSETFROM:+0100
TZOFFSETTO:+0200
DTSTART:19160430T230000
RDATE:19400401T020000
RDATE:19430329T020000
RDATE:19460414T020000
RDATE:19470406T030000
RDATE:19480418T020000
RDATE:19490410T020000
RDATE:19800406T020000
END:DAYLIGHT
BEGIN:STANDARD
TZNAME:CET
TZOFFSETFROM:+0200
TZOFFSETTO:+0100
DTSTART:19161001T010000
RDATE:19421102T030000
RDATE:19431004T030000
RDATE:19441002T030000
RDATE:19451118T030000
RDATE:19461007T030000
END:STANDARD
BEGIN:DAYLIGHT
TZNAME:CEST
TZOFFSETFROM:+0100
TZOFFSETTO:+0200
DTSTART:19170416T020000
RRULE:FREQ=YEARLY;UNTIL=19180415T010000Z;BYMONTH=4;BYDAY=3MO
END:DAYLIGHT
BEGIN:STANDARD
TZNAME:CET
TZOFFSETFROM:+0200
TZOFFSETTO:+0100
DTSTART:19170917T030000
RRULE:FREQ=YEARLY;UNTIL=19180916T010000Z;BYMONTH=9;BYDAY=3MO
END:STANDARD
BEGIN:DAYLIGHT
TZNAME:CEST
TZOFFSETFROM:+0100
TZOFFSETTO:+0200
DTSTART:19440403T020000
RRULE:FREQ=YEARLY;UNTIL=19450402T010000Z;BYMONTH=4;BYDAY=1MO
END:DAYLIGHT
BEGIN:DAYLIGHT
TZNAME:CEMT
TZOFFSETFROM:+0200
TZOFFSETTO:+0300
DTSTART:19450524T020000
RDATE:19470511T030000
END:DAYLIGHT
BEGIN:DAYLIGHT
TZNAME:CEST
TZOFFSETFROM:+0300
TZOFFSETTO:+0200
DTSTART:19450924T030000
RDATE:19470629T030000
END:DAYLIGHT
BEGIN:STANDARD
TZNAME:CET
TZOFFSETFROM:+0100
TZOFFSETTO:+0100
DTSTART:19460101T000000
RDATE:19800101T000000
END:STANDARD
BEGIN:STANDARD
TZNAME:CET
TZOFFSETFROM:+0200
TZOFFSETTO:+0100
DTSTART:19471005T030000
RRULE:FREQ=YEARLY;UNTIL=19491002T010000Z;BYMONTH=10;BYDAY=1SU
END:STANDARD
BEGIN:STANDARD
TZNAME:CET
TZOFFSETFROM:+0200
TZOFFSETTO:+0100
DTSTART:19800928T030000
RRULE:FREQ=YEARLY;UNTIL=19950924T010000Z;BYMONTH=9;BYDAY=-1SU
END:STANDARD
BEGIN:DAYLIGHT
TZNAME:CEST
TZOFFSETFROM:+0100
TZOFFSETTO:+0200
DTSTART:19810329T020000
RRULE:FREQ=YEARLY;BYMONTH=3;BYDAY=-1SU
END:DAYLIGHT
BEGIN:STANDARD
TZNAME:CET
TZOFFSETFROM:+0200
TZOFFSETTO:+0100
DTSTART:19961027T030000
RRULE:FREQ=YEARLY;BYMONTH=10;BYDAY=-1SU
END:STANDARD
END:VTIMEZONE
BEGIN:VEVENT
DTSTAMP:20260425T173055Z
DTSTART;TZID=Europe/Berlin:20260516T140000
DTEND;TZID=Europe/Berlin:20260516T235959
SUMMARY:MAI FESTIVAL
DESCRIPTION:🟢⚪️🔵Junggesellenfest\nBrückberg 2026 🟢⚪️🔵\n\nSamstag\, 16
 .05.2026\n\nMAIFESTIVAL - Das Maifest des JGV BRÜCKBERG\n\nAm Samstag\, 
 den 16. Mai 2026\, laden wir euch ab 14:00 Uhr zur unserem Maifest ein.\
 n\n= MALLE ANJA =\n= CALVIN KLEINEN =\n= LOST IDENTITY =\n=DJ MUSIK =\n=
  ??? =\n\nErlebt mit uns die MEGA Open Air Party in Siegburg. Wir haben 
 hochkarätige Künstler am Start\, welche auf den großen Bühnen Deutschlan
 ds zuhause sind .\n\nBevor wir in unser Maifest starten\, wollen wir mit
  einem Festumzug\, unsere diesjährige Maikönigin abholen.\nNatürlich kom
 men bei uns die Junggesellenvereine und die Tradition nicht zu kurz und 
 wir bieten Extratouren an. Ebenfalls wird der beste Fahnenschwenker gekü
 rt. Wie es sich für ein Maifest gehört\, gibt es auch eine Meterbierwert
 ung!\n\n\nWeitere Infos folgen definitiv...\n\nWir freuen uns über euren
  Besuch.\n\nEuer JGV BRÜCKBERG 🫶🏼🤝🏻
LOCATION:Adolf-Kolping-Platz
X-LOCATION-NAME:Adolf-Kolping-Platz
X-POSTAL-CODE:53721
X-LOCALITY:Siegburg
X-ORGANIZER-NAME:Patrick Trampert
URL:https://events.siegburg.de/Veranstaltungen/MAI-FESTIVAL.html?
CATEGORIES:Jahrmärkte & Feste,Gastronomie,Konzerte & Musik,Ausgehen
UID:3330
X-PRICE:https://shop.ticketpay.de/RI3CH6F5?utm_source=ig&utm_medium=socia
 l&utm_content=link_in_bio&fbclid=PAdGRleAQWY3VleHRuA2FlbQIxMQBzcnRjBmFwc
 F9pZA8xMjQwMjQ1NzQyODc0MTQAAacJpNGVgu4-cPiEqVYU1P0EgfXawq8Z9akKcFqBHuHj-
 mM7cxr4T4_59USqNg_aem_p39rdQK55bQ-RDNnkWlCeA
END:VEVENT
END:VCALENDAR
